BEGIN:VCALENDAR
PRODID:-//eluceo/ical//2.0/EN
VERSION:2.0
CALSCALE:GREGORIAN
BEGIN:VEVENT
UID:fa94456980abe00494cbf6a69798df07
DTSTAMP:20260421T093436Z
SUMMARY:eTwinning-Seminar in Deutschland: Celebrating What Unites Us – fo
 r a Better Future in Europe
DTSTART:20250515T150000
DTEND:20250517T130000
END:VEVENT
END:VCALENDAR
