BEGIN:VCALENDAR
PRODID:-//eluceo/ical//2.0/EN
VERSION:2.0
CALSCALE:GREGORIAN
BEGIN:VEVENT
UID:4cb07f1d541189885dafdd23ccad3773
DTSTAMP:20260419T201901Z
SUMMARY:Von der Projektidee zum Projektantrag in Erasmus+
DTSTART:20260119T104400
DTEND:20260122T104700
END:VEVENT
END:VCALENDAR
