BEGIN:VCALENDAR
PRODID:-//eluceo/ical//2.0/EN
VERSION:2.0
CALSCALE:GREGORIAN
BEGIN:VEVENT
UID:48f66a921a8974f1058f339d532d75f3
DTSTAMP:20260419T202453Z
SUMMARY:Infoveranstaltung: eTwinning und Erasmus+ in der Elementarpädagogi
 k
DTSTART:20260210T140000
DTEND:20260210T170000
END:VEVENT
END:VCALENDAR
