BEGIN:VCALENDAR
PRODID:-//eluceo/ical//2.0/EN
VERSION:2.0
CALSCALE:GREGORIAN
BEGIN:VEVENT
UID:adc581e8580ffd51249fc05ffa0584c2
DTSTAMP:20260419T204637Z
SUMMARY:Webinar: eTwinning für Anfänger/innen
DTSTART:20260122T160000
DTEND:20260122T170000
END:VEVENT
END:VCALENDAR
