BEGIN:VCALENDAR
PRODID:-//eluceo/ical//2.0/EN
VERSION:2.0
CALSCALE:GREGORIAN
BEGIN:VEVENT
UID:e18bee74b6dd77a2da6fbbfcf337ba4f
DTSTAMP:20260419T201958Z
SUMMARY:Info-Webinar für KA1 Standardprojekte in Erasmus+ Jugend
DTSTART:20260115T100000
DTEND:20260115T113000
END:VEVENT
END:VCALENDAR
