BEGIN:VCALENDAR
PRODID:-//eluceo/ical//2.0/EN
VERSION:2.0
CALSCALE:GREGORIAN
BEGIN:VEVENT
UID:0845bdbd38d5737758ef3e26e472420a
DTSTAMP:20260419T202221Z
SUMMARY:Webinar: Erasmus+ für die EB-Community
DTSTART:20260114T130000
DTEND:20260114T143000
END:VEVENT
END:VCALENDAR
