BEGIN:VCALENDAR
PRODID:-//eluceo/ical//2.0/EN
VERSION:2.0
CALSCALE:GREGORIAN
BEGIN:VEVENT
UID:4a2847dc3628459fd451e07b03895c89
DTSTAMP:20260419T201610Z
SUMMARY:Q&A Session KA2 ADU - Projektanträge 2026 in der Erwachsenenbildun
 g
DTSTART:20260128T100000
DTEND:20260128T110000
END:VEVENT
END:VCALENDAR
