BEGIN:VCALENDAR
PRODID:-//eluceo/ical//2.0/EN
VERSION:2.0
CALSCALE:GREGORIAN
BEGIN:VEVENT
UID:14ab0a1bc7e554a14a3d4a8a22f1cc50
DTSTAMP:20260419T202021Z
SUMMARY:Fachevent der ACA "What's New in Brussels?" 2026
DTSTART:20260129T135100
DTEND:20260130T135600
END:VEVENT
END:VCALENDAR
