BEGIN:VCALENDAR
PRODID:-//eluceo/ical//2.0/EN
VERSION:2.0
CALSCALE:GREGORIAN
BEGIN:VEVENT
UID:cbab2ce16935ffa1a86ef6344b00edbe
DTSTAMP:20260419T201611Z
SUMMARY:Fragerunde Projektanträge KA220-VET - Kooperationspartnerschaften 
 in der Berufsbildung
DTSTART:20260130T093000
DTEND:20260130T103000
END:VEVENT
END:VCALENDAR
