BEGIN:VCALENDAR
PRODID:-//eluceo/ical//2.0/EN
VERSION:2.0
CALSCALE:GREGORIAN
BEGIN:VEVENT
UID:d3c796a4929e5652b705afc57c5d9182
DTSTAMP:20260421T080428Z
SUMMARY:Taiwan-Austria Higher Education Forum
DTSTART:20250429T081000
DTEND:20250429T081000
END:VEVENT
END:VCALENDAR
