BEGIN:VCALENDAR
PRODID:-//eluceo/ical//2.0/EN
VERSION:2.0
CALSCALE:GREGORIAN
BEGIN:VEVENT
UID:5cd019c285b93a82f924a9bf6aa35094
DTSTAMP:20260420T121534Z
SUMMARY:Forum 2025 Bildung und Arbeitsmarkt: Ökologische Transformation ge
 stalten
DTSTART:20250522T143000
DTEND:20250522T163000
END:VEVENT
END:VCALENDAR
