BEGIN:VCALENDAR
PRODID:-//eluceo/ical//2.0/EN
VERSION:2.0
CALSCALE:GREGORIAN
BEGIN:VEVENT
UID:cadb04140206d3112e9f0df561cd440e
DTSTAMP:20260421T093531Z
SUMMARY:eTwinning Workshop for School Leaders in Griechenland
DTSTART:20260416T130000
DTEND:20260418T130000
END:VEVENT
END:VCALENDAR
