BEGIN:VCALENDAR
PRODID:-//eluceo/ical//2.0/EN
VERSION:2.0
CALSCALE:GREGORIAN
BEGIN:VEVENT
UID:d139c5ebbeb0a310e0f8c8c0b733dd52
DTSTAMP:20260419T215803Z
SUMMARY:Future in Progress: Exploring AI and digital skills in VET
DTSTART:20260125T144700
DTEND:20260127T144800
END:VEVENT
END:VCALENDAR
