BEGIN:VCALENDAR
PRODID:-//eluceo/ical//2.0/EN
VERSION:2.0
CALSCALE:GREGORIAN
BEGIN:VEVENT
UID:a5586ba538f6d7740239ad55df363fc9
DTSTAMP:20260421T093530Z
SUMMARY:KA182 Sport - Webinar zur Antragstellung
DTSTART:20260127T160000
DTEND:20260127T164500
END:VEVENT
END:VCALENDAR
