BEGIN:VCALENDAR
PRODID:-//eluceo/ical//2.0/EN
VERSION:2.0
CALSCALE:GREGORIAN
BEGIN:VEVENT
UID:00df362ea95ec18795dc3dfbd9257d83
DTSTAMP:20260419T220558Z
SUMMARY:Infowebinar: Kurzfristige Projekte – KA122 Erwachsenenbildung
DTSTART:20260120T130000
DTEND:20260120T143000
END:VEVENT
END:VCALENDAR
