BEGIN:VCALENDAR
PRODID:-//eluceo/ical//2.0/EN
VERSION:2.0
CALSCALE:GREGORIAN
BEGIN:VEVENT
UID:7a207705c82855153aa155873611f2e5
DTSTAMP:20260421T111530Z
SUMMARY:EPALE und Erasmus+ Konferenz 2026
DTSTART:20260422T093000
DTEND:20260422T160000
END:VEVENT
END:VCALENDAR
