BEGIN:VCALENDAR
PRODID:-//eluceo/ical//2.0/EN
VERSION:2.0
CALSCALE:GREGORIAN
BEGIN:VEVENT
UID:3863793ca52eaf752987b7ab089a780b
DTSTAMP:20260419T220201Z
SUMMARY:Infowebinar: Europäische Partnerschaften für Schulentwicklung
DTSTART:20260114T140000
DTEND:20260114T163000
END:VEVENT
END:VCALENDAR
