BEGIN:VCALENDAR
PRODID:-//eluceo/ical//2.0/EN
VERSION:2.0
CALSCALE:GREGORIAN
BEGIN:VEVENT
UID:ff2940290770652082d7a85861e283f1
DTSTAMP:20260419T215515Z
SUMMARY:Infowebinar: Europäische Partnerschaften für Schulentwicklung 
DTSTART:20260204T140000
DTEND:20260204T163000
END:VEVENT
END:VCALENDAR
